BEGIN:VCALENDAR
METHOD:PUBLISH
PRODID:1
VERSION:2.0
X-WR-CALNAME:Calendar Planner
BEGIN:VEVENT
UID:52@https://demo.joomlathat.com/
DTSTAMP:20260422T070000Z
DTSTART:20260422T070000Z
DTEND:20260422T101500Z
SUMMARY:Call clients in Rome
LOCATION:Rome, Província de Roma, Itàlia
X-APPLE-STRUCTURED-LOCATION;X-TITLE=Roma:geo:41.90278349999999,12.496365500000024
END:VEVENT
BEGIN:VEVENT
UID:42@https://demo.joomlathat.com/
DTSTAMP:20260422T111500Z
DTSTART:20260422T111500Z
DTEND:20260422T151500Z
SUMMARY:Generic event
END:VEVENT
BEGIN:VEVENT
UID:48@https://demo.joomlathat.com/
DTSTAMP:20260422T163000Z
DTSTART:20260422T163000Z
DTEND:20260422T214500Z
SUMMARY:Dinner
LOCATION:Passeig de Gràcia, Barcelona, Espanya
X-APPLE-STRUCTURED-LOCATION;X-TITLE=Passeig de Gràcia:geo:41.3931702,2.1639602000000195
END:VEVENT
BEGIN:VEVENT
UID:50@https://demo.joomlathat.com/
DTSTAMP:20260422T230000Z
DTSTART:20260422T230000Z
DTEND:20260423T063000Z
SUMMARY:All night event
LOCATION:Barcelona, Espanya
X-APPLE-STRUCTURED-LOCATION;X-TITLE=Barcelona:geo:41.38506389999999,2.1734034999999494
END:VEVENT
BEGIN:VEVENT
UID:51@https://demo.joomlathat.com/
DTSTAMP:20260423T064500Z
DTSTART:20260423T064500Z
DTEND:20260423T090000Z
SUMMARY:Product presentation
LOCATION:Empire State Building, 5th Avenue, Nova York, Estats Units d'Amèrica
X-APPLE-STRUCTURED-LOCATION;X-TITLE=Empire State Building:geo:40.7484404,-73.98565539999998
END:VEVENT
BEGIN:VEVENT
UID:53@https://demo.joomlathat.com/
DTSTAMP:20260423T091500Z
DTSTART:20260423T091500Z
DTEND:20260423T153000Z
SUMMARY:Meeting with clients
LOCATION:Casa Batlló, Passeig de Gràcia, Barcelona, Espanya
X-APPLE-STRUCTURED-LOCATION;X-TITLE=Casa Batlló:geo:41.3916408,2.164867299999969
END:VEVENT
BEGIN:VEVENT
UID:60@https://demo.joomlathat.com/
DTSTAMP:20260423T154500Z
DTSTART:20260423T154500Z
DTEND:20260423T210000Z
SUMMARY:Dinner with family
LOCATION:Tokyo Sushi, Carrer Comtal, Barcelona, Espanya
X-APPLE-STRUCTURED-LOCATION;X-TITLE=Tokyo-sushi Restaurant:geo:41.3865208,2.1734394000000066
END:VEVENT
BEGIN:VEVENT
UID:43@https://demo.joomlathat.com/
DTSTAMP:20260424T004500Z
DTSTART:20260424T004500Z
DTEND:20260424T041500Z
SUMMARY:Something
END:VEVENT
BEGIN:VEVENT
UID:58@https://demo.joomlathat.com/
DTSTAMP:20260424T051500Z
DTSTART:20260424T051500Z
DTEND:20260424T130000Z
SUMMARY:Meeting with friends
LOCATION:Park Güell, Carrer d'Olot, Barcelona, Espanya
X-APPLE-STRUCTURED-LOCATION;X-TITLE=Park Güell:geo:41.41449480000001,2.1526945000000524
END:VEVENT
BEGIN:VEVENT
UID:47@https://demo.joomlathat.com/
DTSTAMP:20260424T134500Z
DTSTART:20260424T134500Z
DTEND:20260424T163000Z
SUMMARY:Visit to the museum
LOCATION:Casa Batlló, Passeig de Gràcia, Barcelona, Espanya
X-APPLE-STRUCTURED-LOCATION;X-TITLE=Casa Batlló:geo:41.3916408,2.164867299999969
END:VEVENT
BEGIN:VEVENT
UID:44@https://demo.joomlathat.com/
DTSTAMP:20260424T170000Z
DTSTART:20260424T170000Z
DTEND:20260424T204500Z
SUMMARY:Match at Camp Nou
LOCATION:Camp Nou, Barcelona, Espanya
X-APPLE-STRUCTURED-LOCATION;X-TITLE=Camp Nou:geo:41.37596069999999,2.11467319999997
END:VEVENT
BEGIN:VEVENT
UID:57@https://demo.joomlathat.com/
DTSTAMP:20260425T041500Z
DTSTART:20260425T041500Z
DTEND:20260425T121500Z
SUMMARY:Group visit
LOCATION:La Sagrada Familia, Barcelona, Espanya
X-APPLE-STRUCTURED-LOCATION;X-TITLE=La Sagrada Familia:geo:41.4044837,2.175727800000004
END:VEVENT
BEGIN:VEVENT
UID:45@https://demo.joomlathat.com/
DTSTAMP:20260425T130000Z
DTSTART:20260425T130000Z
DTEND:20260425T161500Z
SUMMARY:Event at the part
LOCATION:Central Park, NY, Nova York, Estats Units d'Amèrica
X-APPLE-STRUCTURED-LOCATION;X-TITLE=Central Park:geo:40.7828647,-73.96535510000001
END:VEVENT
BEGIN:VEVENT
UID:54@https://demo.joomlathat.com/
DTSTAMP:20260425T180000Z
DTSTART:20260425T180000Z
DTEND:20260425T214500Z
SUMMARY:Night event
LOCATION:Piccadilly Circus, Londres, Regne Unit
X-APPLE-STRUCTURED-LOCATION;X-TITLE=Piccadilly Circus:geo:51.5100974,-0.13457340000002205
END:VEVENT
BEGIN:VEVENT
UID:46@https://demo.joomlathat.com/
DTSTAMP:20260426T064500Z
DTSTART:20260426T064500Z
DTEND:20260426T113000Z
SUMMARY:Test event
LOCATION:Majestic Hotel & Spa Barcelona GL, Passeig de Gràcia, Barcelona, Espanya
X-APPLE-STRUCTURED-LOCATION;X-TITLE=Majestic Hotel & Spa Barcelona GL:geo:41.393455,2.1637929999999415
END:VEVENT
BEGIN:VEVENT
UID:59@https://demo.joomlathat.com/
DTSTAMP:20260426T140000Z
DTSTART:20260426T140000Z
DTEND:20260426T204500Z
SUMMARY:Trip
LOCATION:Bora Bora
X-APPLE-STRUCTURED-LOCATION;X-TITLE=Bora Bora:geo:-16.5004126,-151.74149039999998
END:VEVENT
BEGIN:VEVENT
UID:55@https://demo.joomlathat.com/
DTSTAMP:20260427T053000Z
DTSTART:20260427T053000Z
DTEND:20260427T101500Z
SUMMARY:Morning meeting
LOCATION:Majestic Hotel & Spa Barcelona GL, Passeig de Gràcia, Barcelona, Espanya
X-APPLE-STRUCTURED-LOCATION;X-TITLE=Majestic Hotel & Spa Barcelona GL:geo:41.393455,2.1637929999999415
END:VEVENT
BEGIN:VEVENT
UID:56@https://demo.joomlathat.com/
DTSTAMP:20260427T120000Z
DTSTART:20260427T120000Z
DTEND:20260427T183000Z
SUMMARY:Lunch with clients
LOCATION:Tour Eiffel, Avenue Anatole France, París, França
X-APPLE-STRUCTURED-LOCATION;X-TITLE=Tour Eiffel:geo:48.8582606,2.2945071000000326
END:VEVENT
END:VCALENDAR
